BEGIN:VCALENDAR
VERSION:2.0
PRODID:icalendar-ruby
CALSCALE:GREGORIAN
BEGIN:VEVENT
DTSTAMP:20260420T133910Z
UID:61df2c45-4a74-4dcf-99a8-2c9f167160f3
DTSTART;VALUE=DATE:20201022
DESCRIPTION:Property ID# 491042\, Locatoin: Harcourts Wellington City Offic
 e\, 54-56 Cambridge Terrace\, Wellington (unless sold prior)\, Time: 2:00P
 M
SUMMARY:Auction for 
END:VEVENT
END:VCALENDAR
