BEGIN:VCALENDAR
VERSION:2.0
PRODID:icalendar-ruby
CALSCALE:GREGORIAN
BEGIN:VEVENT
DTSTAMP:20260423T080136Z
UID:e9ce6170-89a6-46ff-961f-173dea45cac9
DTSTART;VALUE=DATE:20201125
DESCRIPTION:Property ID# 494585\, Locatoin: Holmwood Auction Rooms\, 397 Il
 am Road (unless sold prior)\, Time: 10:00AM
SUMMARY:Auction for 
END:VEVENT
END:VCALENDAR
