BEGIN:VCALENDAR
VERSION:2.0
PRODID:icalendar-ruby
CALSCALE:GREGORIAN
BEGIN:VEVENT
DTSTAMP:20260421T012348Z
UID:1eb76e7a-100c-43d9-851d-f76396aa9c87
DTSTART;VALUE=DATE:20220218
DESCRIPTION:Property ID# 527051\, Locatoin: On site\, Time: 4:00PM
SUMMARY:Auction for 
END:VEVENT
END:VCALENDAR
