BEGIN:VCALENDAR
VERSION:2.0
PRODID:icalendar-ruby
CALSCALE:GREGORIAN
BEGIN:VEVENT
DTSTAMP:20260421T011842Z
UID:eeaedabc-965e-4ac4-b9e0-10863570a89d
DTSTART;VALUE=DATE:20220310
DESCRIPTION:Property ID# 529020\, Locatoin: Ray White auction rooms\, Heref
 ord Street\, Christchurch\, Time: 12:00PM
SUMMARY:Auction for 
END:VEVENT
END:VCALENDAR
