BEGIN:VCALENDAR
VERSION:2.0
PRODID:icalendar-ruby
CALSCALE:GREGORIAN
BEGIN:VEVENT
DTSTAMP:20260421T011239Z
UID:500a5326-865e-4c62-baff-4b81d163c74e
DTSTART;VALUE=DATE:20220517
DESCRIPTION:Property ID# 534285\, Time: 1:00PM
SUMMARY:Auction for 
END:VEVENT
END:VCALENDAR
