BEGIN:VCALENDAR
VERSION:2.0
PRODID:icalendar-ruby
CALSCALE:GREGORIAN
BEGIN:VEVENT
DTSTAMP:20260424T055716Z
UID:5f3612cd-8ec2-4e5a-bd68-2e783d724512
DTSTART;VALUE=DATE:20230301
DESCRIPTION:Property ID# 551791\, Locatoin: Harcourts Holmwood\, Ground Flo
 or\, 397 - 399 Ilam Road\, Ilam (unless sold prior)\, Time: 10:00AM
SUMMARY:Auction for 
END:VEVENT
END:VCALENDAR
