BEGIN:VCALENDAR
VERSION:2.0
PRODID:icalendar-ruby
CALSCALE:GREGORIAN
BEGIN:VEVENT
DTSTAMP:20260420T214302Z
UID:5efaaa94-6f74-4b78-8b68-6b0869800295
DTSTART;VALUE=DATE:20251030
DESCRIPTION:Property ID# 596967\, Time: 11:00AM
SUMMARY:Auction for 
END:VEVENT
END:VCALENDAR
